Workbook
Name Fore2013: Forecasts!#REF!
Name Fore2014: Forecasts!#REF!
Name Fore2015: Forecasts!#REF!
Name Fore2016: Forecasts!#REF!
Name Fore2017: Forecasts!#REF!
Name Fore2018: Forecasts!#REF!
Name Fore2019: [1]BASSING!$B$173:$AY$176
Name Schools: Lists!$A$2:$A$28

Sheet Opening
B2: Cambridgeshire Primary School Forecasts - January 2026 Base
B4: Select School:
B6: To view the pupil forecast for your school click in the yellow box and select your school from the drop down list. Then press enter.
C8: Primary School: | F8: Abbots Ripton CofE Primary School | P8: ENTER
B12: The revised five-year forecasts given here incorporate the January 2026 rolls and information received up to July 2026. The forecasts are based on current trends and admissions policies. They do not take into account future changes in these policies.
C17: E-mail: PlacePlanningReferrals0-19@cambridgeshire.gov.uk
B20: Cambridgeshire County Council Policy, Performance and Intelligence, October 2026

Sheet Profile
B1: =Opening!F8 -> Abbots Ripton CofE Primary School
B2: Five Year Pupil Forecast January 2026 Base
B4: The revised five-year forecasts given here incorporate the January 2026 rolls and information received up to July 2026 | L4: Click here to return to the main page and select a different school
B6: The forecasts are based on current trends and admissions policies. They do not take into account future changes in these policies. We would be happy to discuss the effects of possible changes in trends or admissions policies on projected numbers and to provide forecasts based on alternative assumptions.
L9: This page is set up to print onto a single page for your convenience. Select print preview to show this.
C13: E-mail: PlacePlanningReferrals0-19@cambridgeshire.gov.uk
B15: =Opening!F8 -> Abbots Ripton CofE Primary School
C16: R | D16: Yr1 | E16: Yr2 | F16: Yr3 | G16: Yr4 | H16: Yr5 | I16: Yr6
B17: School Year | C17: 4 Yr Olds | D17: 5 Yr Olds | E17: 6 Yr Olds | F17: 7 Yr Olds | G17: 8 Yr Olds | H17: 9 Yr Olds | I17: 10 Yr Olds | J17: Total School
B18: 2025/2026 | C18: =VLOOKUP(($B$15&B18),Forecasts!C$2:K$1982,2,FALSE) -> 17 | D18: =VLOOKUP(($B$15&B18),Forecasts!C$2:K$1982,3,FALSE) -> 15 | E18: =VLOOKUP(($B$15&B18),Forecasts!C$2:K$1982,4,FALSE) -> 15 | F18: =VLOOKUP(($B$15&B18),Forecasts!C$2:K$1982,5,FALSE) -> 19 | G18: =VLOOKUP(($B$15&B18),Forecasts!C$2:K$1982,6,FALSE) -> 7 | H18: =VLOOKUP(($B$15&B18),Forecasts!C$2:K$1982,7,FALSE) -> 17 | I18: =VLOOKUP(($B$15&B18),Forecasts!C$2:K$1982,8,FALSE) -> 13 | J18: =SUM(C18:I18) -> 103
B19: 2026/2027 | C19: =VLOOKUP(($B$15&B19),Forecasts!C$2:K$1982,2,FALSE) -> 17 | D19: =VLOOKUP(($B$15&B19),Forecasts!C$2:K$1982,3,FALSE) -> 17 | E19: =VLOOKUP(($B$15&B19),Forecasts!C$2:K$1982,4,FALSE) -> 16 | F19: =VLOOKUP(($B$15&B19),Forecasts!C$2:K$1982,5,FALSE) -> 15 | G19: =VLOOKUP(($B$15&B19),Forecasts!C$2:K$1982,6,FALSE) -> 18 | H19: =VLOOKUP(($B$15&B19),Forecasts!C$2:K$1982,7,FALSE) -> 7 | I19: =VLOOKUP(($B$15&B19),Forecasts!C$2:K$1982,8,FALSE) -> 18 | J19: =SUM(C19:I19) -> 108
B20: 2027/2028 | C20: =VLOOKUP(($B$15&B20),Forecasts!C$2:K$1982,2,FALSE) -> 13 | D20: =VLOOKUP(($B$15&B20),Forecasts!C$2:K$1982,3,FALSE) -> 17 | E20: =VLOOKUP(($B$15&B20),Forecasts!C$2:K$1982,4,FALSE) -> 18 | F20: =VLOOKUP(($B$15&B20),Forecasts!C$2:K$1982,5,FALSE) -> 16 | G20: =VLOOKUP(($B$15&B20),Forecasts!C$2:K$1982,6,FALSE) -> 14 | H20: =VLOOKUP(($B$15&B20),Forecasts!C$2:K$1982,7,FALSE) -> 18 | I20: =VLOOKUP(($B$15&B20),Forecasts!C$2:K$1982,8,FALSE) -> 8 | J20: =SUM(C20:I20) -> 104
B21: 2028/2029 | C21: =VLOOKUP(($B$15&B21),Forecasts!C$2:K$1982,2,FALSE) -> 9 | D21: =VLOOKUP(($B$15&B21),Forecasts!C$2:K$1982,3,FALSE) -> 13 | E21: =VLOOKUP(($B$15&B21),Forecasts!C$2:K$1982,4,FALSE) -> 18 | F21: =VLOOKUP(($B$15&B21),Forecasts!C$2:K$1982,5,FALSE) -> 18 | G21: =VLOOKUP(($B$15&B21),Forecasts!C$2:K$1982,6,FALSE) -> 15 | H21: =VLOOKUP(($B$15&B21),Forecasts!C$2:K$1982,7,FALSE) -> 14 | I21: =VLOOKUP(($B$15&B21),Forecasts!C$2:K$1982,8,FALSE) -> 19 | J21: =SUM(C21:I21) -> 106
B22: 2029/2030 | C22: =VLOOKUP(($B$15&B22),Forecasts!C$2:K$1982,2,FALSE) -> 8 | D22: =VLOOKUP(($B$15&B22),Forecasts!C$2:K$1982,3,FALSE) -> 9 | E22: =VLOOKUP(($B$15&B22),Forecasts!C$2:K$1982,4,FALSE) -> 14 | F22: =VLOOKUP(($B$15&B22),Forecasts!C$2:K$1982,5,FALSE) -> 18 | G22: =VLOOKUP(($B$15&B22),Forecasts!C$2:K$1982,6,FALSE) -> 17 | H22: =VLOOKUP(($B$15&B22),Forecasts!C$2:K$1982,7,FALSE) -> 15 | I22: =VLOOKUP(($B$15&B22),Forecasts!C$2:K$1982,8,FALSE) -> 15 | J22: =SUM(C22:I22) -> 96
B23: 2030/2031 | C23: =VLOOKUP(($B$15&B23),Forecasts!C$2:K$1982,2,FALSE) -> 10 | D23: =VLOOKUP(($B$15&B23),Forecasts!C$2:K$1982,3,FALSE) -> 8 | E23: =VLOOKUP(($B$15&B23),Forecasts!C$2:K$1982,4,FALSE) -> 10 | F23: =VLOOKUP(($B$15&B23),Forecasts!C$2:K$1982,5,FALSE) -> 14 | G23: =VLOOKUP(($B$15&B23),Forecasts!C$2:K$1982,6,FALSE) -> 17 | H23: =VLOOKUP(($B$15&B23),Forecasts!C$2:K$1982,7,FALSE) -> 17 | I23: =VLOOKUP(($B$15&B23),Forecasts!C$2:K$1982,8,FALSE) -> 16 | J23: =SUM(C23:I23) -> 92
B24: =IFERROR(VLOOKUP($B$15,'Forecast Notes'!$A$2:$B$5,2,FALSE),"")
B26: Understanding your forecast:
B27:  The table below shows how you can read your forecast. A year group moves through the school as indicated by the green squares. The ages refer to age on 1st September each year, so “4Yr Olds” equates to each year’s admissions to Year R.
B28:  The five-year pupil forecasts are trend-based forecasts. They show the development of school rolls over the next five years if the trends and patterns of the past three years were to continue.
B29:  Intake at reception year is forecasted based on the relationship between the numbers of four year olds normally feeding to your school and the actual primary intakes over the last three years. Intakes and cohorts are not capped Published Admissions Numbers (or admissions above PAN when negotiated with Place Planning).
B30:  Year groups are assumed to move through the school with the average net gains and losses experienced within the school over the last three years
B31:  Major changes in future house-building will also affect intake and cohort changes.
B32:  Where a forecast exceeds a schools PAN this does not necessarily mean that there are proposals to expand your school as planning is done on an area basis across a number of schools. If there is an immediate need or a plan to expand your school, it is likely that you will already have discussed this with a member of the 0-19 Place Planning and Sufficiency Team.
C34: R | D34: Yr1 | E34: Yr2 | F34: Yr3 | G34: Yr4 | H34: Yr5 | I34: Yr6
B35: School Year | C35: 4 Yr Olds | D35: 5 Yr Olds | E35: 6 Yr Olds | F35: 7 Yr Olds | G35: 8 Yr Olds | H35: 9 Yr Olds | I35: 10 Yr Olds
B36: 2021/2022
B37: 2022/2023
B38: 2023/2024
B39: 2024/2025
B40: 2025/2026
B41: 2026/2027
B42: Policy, Performance and Intelligence, Cambridgeshire County Council; October 2026

Sheet Forecasts
C1: School & Year | D1: Total Forecast (Base + Planning)
A2: School | B2: School Year | C2: =A2&B2 -> SchoolSchool Year | D2: Pr 4 | E2: Pri 5 | F2: Pri 6 | G2: Pri 7 | H2: Pri 8 | I2: Pri 9 | J2: Pri10 | K2: Total | L2: PAN
C3: =A3&B3
A4: Bassingbourn Primary School | B4: 2022/2023 | C4: =A4&B4 -> Bassingbourn Primary School2022/2023 | D4: 48 | E4: 51 | F4: 60 | G4: 59 | H4: 53 | I4: 55 | J4: 60 | K4: 386 | L4: 0 | P4: =#REF!=A4 -> #REF! | Q4: =#REF!=B4 -> #REF! | R4: =#REF!=D4 -> #REF! | S4: =#REF!=E4 -> #REF! | T4: =#REF!=F4 -> #REF! | U4: =#REF!=G4 -> #REF! | V4: =#REF!=H4 -> #REF! | W4: =#REF!=I4 -> #REF! | X4: =#REF!=J4 -> #REF! | Y4: =#REF!=K4 -> #REF! | Z4: =#REF!=L4 -> #REF! | AA4: =O4=M4 -> TRUE
A5: Bassingbourn Primary School | B5: 2023/2024 | C5: =A5&B5 -> Bassingbourn Primary School2023/2024 | D5: 44 | E5: 51 | F5: 57 | G5: 52 | H5: 56 | I5: 54 | J5: 59 | K5: 373 | L5: 0 | P5: =#REF!=A5 -> #REF! | Q5: =#REF!=B5 -> #REF! | R5: =#REF!=D5 -> #REF! | S5: =#REF!=E5 -> #REF! | T5: =#REF!=F5 -> #REF! | U5: =#REF!=G5 -> #REF! | V5: =#REF!=H5 -> #REF! | W5: =#REF!=I5 -> #REF! | X5: =#REF!=J5 -> #REF! | Y5: =#REF!=K5 -> #REF! | Z5: =#REF!=L5 -> #REF! | AA5: =O5=M5 -> TRUE
A6: Bassingbourn Primary School | B6: 2024/2025 | C6: =A6&B6 -> Bassingbourn Primary School2024/2025 | D6: 44 | E6: 47 | F6: 56 | G6: 55 | H6: 53 | I6: 54 | J6: 56 | K6: 365 | L6: 0 | P6: =#REF!=A6 -> #REF! | Q6: =#REF!=B6 -> #REF! | R6: =#REF!=D6 -> #REF! | S6: =#REF!=E6 -> #REF! | T6: =#REF!=F6 -> #REF! | U6: =#REF!=G6 -> #REF! | V6: =#REF!=H6 -> #REF! | W6: =#REF!=I6 -> #REF! | X6: =#REF!=J6 -> #REF! | Y6: =#REF!=K6 -> #REF! | Z6: =#REF!=L6 -> #REF! | AA6: =O6=M6 -> TRUE
A7: Bassingbourn Primary School | B7: 2025/2026 | C7: =A7&B7 -> Bassingbourn Primary School2025/2026 | D7: 40 | E7: 37 | F7: 47 | G7: 51 | H7: 51 | I7: 50 | J7: 50 | K7: 326 | L7: 60 | P7: =#REF!=A7 -> #REF! | Q7: =#REF!=B7 -> #REF! | R7: =#REF!=D7 -> #REF! | S7: =#REF!=E7 -> #REF! | T7: =#REF!=F7 -> #REF! | U7: =#REF!=G7 -> #REF! | V7: =#REF!=H7 -> #REF! | W7: =#REF!=I7 -> #REF! | X7: =#REF!=J7 -> #REF! | Y7: =#REF!=K7 -> #REF! | Z7: =#REF!=L7 -> #REF! | AA7: =O7=M7 -> TRUE
A8: Bassingbourn Primary School | B8: 2026/2027 | C8: =A8&B8 -> Bassingbourn Primary School2026/2027 | D8: 43 | E8: 38 | F8: 40 | G8: 42 | H8: 49 | I8: 49 | J8: 49 | K8: 310 | L8: 60 | P8: =#REF!=A8 -> #REF! | Q8: =#REF!=B8 -> #REF! | R8: =#REF!=D8 -> #REF! | S8: =#REF!=E8 -> #REF! | T8: =#REF!=F8 -> #REF! | U8: =#REF!=G8 -> #REF! | V8: =#REF!=H8 -> #REF! | W8: =#REF!=I8 -> #REF! | X8: =#REF!=J8 -> #REF! | Y8: =#REF!=K8 -> #REF! | Z8: =#REF!=L8 -> #REF! | AA8: =O8=M8 -> TRUE
A9: Bassingbourn Primary School | B9: 2027/2028 | C9: =A9&B9 -> Bassingbourn Primary School2027/2028 | D9: 29 | E9: 41 | F9: 41 | G9: 35 | H9: 40 | I9: 47 | J9: 48 | K9: 281 | L9: 45 | P9: =#REF!=A9 -> #REF! | Q9: =#REF!=B9 -> #REF! | R9: =#REF!=D9 -> #REF! | S9: =#REF!=E9 -> #REF! | T9: =#REF!=F9 -> #REF! | U9: =#REF!=G9 -> #REF! | V9: =#REF!=H9 -> #REF! | W9: =#REF!=I9 -> #REF! | X9: =#REF!=J9 -> #REF! | Y9: =#REF!=K9 -> #REF! | Z9: =#REF!=L9 -> #REF! | AA9: =O9=M9 -> TRUE
A10: Bassingbourn Primary School | B10: 2028/2029 | C10: =A10&B10 -> Bassingbourn Primary School2028/2029 | D10: 32 | E10: 27 | F10: 44 | G10: 36 | H10: 33 | I10: 38 | J10: 46 | K10: 256 | L10: 45 | P10: =#REF!=A10 -> #REF! | Q10: =#REF!=B10 -> #REF! | R10: =#REF!=D10 -> #REF! | S10: =#REF!=E10 -> #REF! | T10: =#REF!=F10 -> #REF! | U10: =#REF!=G10 -> #REF! | V10: =#REF!=H10 -> #REF! | W10: =#REF!=I10 -> #REF! | X10: =#REF!=J10 -> #REF! | Y10: =#REF!=K10 -> #REF! | Z10: =#REF!=L10 -> #REF! | AA10: =O10=M10 -> TRUE
A11: Bassingbourn Primary School | B11: 2029/2030 | C11: =A11&B11 -> Bassingbourn Primary School2029/2030 | D11: 23 | E11: 30 | F11: 30 | G11: 39 | H11: 34 | I11: 31 | J11: 37 | K11: 224 | L11: 45 | P11: =#REF!=A11 -> #REF! | Q11: =#REF!=B11 -> #REF! | R11: =#REF!=D11 -> #REF! | S11: =#REF!=E11 -> #REF! | T11: =#REF!=F11 -> #REF! | U11: =#REF!=G11 -> #REF! | V11: =#REF!=H11 -> #REF! | W11: =#REF!=I11 -> #REF! | X11: =#REF!=J11 -> #REF! | Y11: =#REF!=K11 -> #REF! | Z11: =#REF!=L11 -> #REF! | AA11: =O11=M11 -> TRUE
A12: Bassingbourn Primary School | B12: 2030/2031 | C12: =A12&B12 -> Bassingbourn Primary School2030/2031 | D12: 29 | E12: 21 | F12: 33 | G12: 25 | H12: 37 | I12: 32 | J12: 30 | K12: 207 | L12: 45 | P12: =#REF!=A12 -> #REF! | Q12: =#REF!=B12 -> #REF! | R12: =#REF!=D12 -> #REF! | S12: =#REF!=E12 -> #REF! | T12: =#REF!=F12 -> #REF! | U12: =#REF!=G12 -> #REF! | V12: =#REF!=H12 -> #REF! | W12: =#REF!=I12 -> #REF! | X12: =#REF!=J12 -> #REF! | Y12: =#REF!=K12 -> #REF! | Z12: =#REF!=L12 -> #REF! | AA12: =O12=M12 -> TRUE
A13: Guilden Morden CofE Primary Academy | B13: 2022/2023 | C13: =A13&B13 -> Guilden Morden CofE Primary Academy2022/2023 | D13: 9 | E13: 7 | F13: 15 | G13: 5 | H13: 7 | I13: 0 | J13: 6 | K13: 49 | L13: 0 | P13: =#REF!=A13 -> #REF! | Q13: =#REF!=B13 -> #REF! | R13: =#REF!=D13 -> #REF! | S13: =#REF!=E13 -> #REF! | T13: =#REF!=F13 -> #REF! | U13: =#REF!=G13 -> #REF! | V13: =#REF!=H13 -> #REF! | W13: =#REF!=I13 -> #REF! | X13: =#REF!=J13 -> #REF! | Y13: =#REF!=K13 -> #REF! | Z13: =#REF!=L13 -> #REF! | AA13: =O13=M13 -> TRUE
A14: Guilden Morden CofE Primary Academy | B14: 2023/2024 | C14: =A14&B14 -> Guilden Morden CofE Primary Academy2023/2024 | D14: 5 | E14: 9 | F14: 5 | G14: 14 | H14: 4 | I14: 4 | J14: 1 | K14: 42 | L14: 0 | P14: =#REF!=A14 -> #REF! | Q14: =#REF!=B14 -> #REF! | R14: =#REF!=D14 -> #REF! | S14: =#REF!=E14 -> #REF! | T14: =#REF!=F14 -> #REF! | U14: =#REF!=G14 -> #REF! | V14: =#REF!=H14 -> #REF! | W14: =#REF!=I14 -> #REF! | X14: =#REF!=J14 -> #REF! | Y14: =#REF!=K14 -> #REF! | Z14: =#REF!=L14 -> #REF! | AA14: =O14=M14 -> TRUE
A15: Guilden Morden CofE Primary Academy | B15: 2024/2025 | C15: =A15&B15 -> Guilden Morden CofE Primary Academy2024/2025 | D15: 7 | E15: 4 | F15: 9 | G15: 5 | H15: 12 | I15: 5 | J15: 4 | K15: 46 | L15: 0 | P15: =#REF!=A15 -> #REF! | Q15: =#REF!=B15 -> #REF! | R15: =#REF!=D15 -> #REF! | S15: =#REF!=E15 -> #REF! | T15: =#REF!=F15 -> #REF! | U15: =#REF!=G15 -> #REF! | V15: =#REF!=H15 -> #REF! | W15: =#REF!=I15 -> #REF! | X15: =#REF!=J15 -> #REF! | Y15: =#REF!=K15 -> #REF! | Z15: =#REF!=L15 -> #REF! | AA15: =O15=M15 -> TRUE
... A1982: The Rackham Church of England Primary School and Pre-School | B1982: 2030/2031 | C1982: =A1982&B1982 -> The Rackham Church of England Primary School and Pre-School2030/2031 | D1982: 35 | E1982: 40 | F1982: 29 | G1982: 33 | H1982: 37 | I1982: 43 | J1982: 43 | K1982: 260 | L1982: 45 | P1982: =#REF!=A1982 -> #REF! | Q1982: =#REF!=B1982 -> #REF! | R1982: =#REF!=D1982 -> #REF! | S1982: =#REF!=E1982 -> #REF! | T1982: =#REF!=F1982 -> #REF! | U1982: =#REF!=G1982 -> #REF! | V1982: =#REF!=H1982 -> #REF! | W1982: =#REF!=I1982 -> #REF! | X1982: =#REF!=J1982 -> #REF! | Y1982: =#REF!=K1982 -> #REF! | Z1982: =#REF!=L1982 -> #REF! | AA1982: =O1982=M1982 -> TRUE

Sheet Forecast Notes
A1: School | B1: Notes

Sheet Lists
A1: School
A2: Abbots Ripton CofE Primary School
A3: Alconbury CofE Primary School
A4: Alderman Jacobs School
A5: Alderman Payne Primary School
A6: All Saints Interchurch Academy
A7: Arbury Primary School
A8: Babraham CofE (VC) Primary School
A9: Bar Hill Community Primary School
A10: Barnabas Oley CofE Primary School
A11: Barrington CofE VC Primary School
A12: Barton CofE VA Primary School
... A220: Yaxley Infant School
